BEGIN:VCALENDAR
VERSION:2.0
PRODID:-//wp-events-plugin.com//7.2.3.1//EN
TZID:Europe/Berlin
X-WR-TIMEZONE:Europe/Berlin
BEGIN:VEVENT
UID:41@oeko-fuer-uelzen.de
DTSTART;TZID=Europe/Berlin:20230311T140000
DTEND;TZID=Europe/Berlin:20230311T170000
DTSTAMP:20230113T120915Z
URL:https://oeko-fuer-uelzen.de/veranstaltungen/obstgehoelze-fachgerecht-s
 chneiden-2/
SUMMARY:OBSTGEHÖLZE FACHGERECHT SCHNEIDEN
DESCRIPTION:Beerensträucher und Obstbäume leben länger\, wenn sie gepfle
 gt und verjüngt werden. Der sachgemäße Schnitt sorgt für einen geringe
 ren Befall von Krankheiten und Schädlingen. Die Ernte wird ergiebiger und
  die Qualität der Früchte besser. In einem theoretischen und einem prakt
 ischen Teil werden die Grundlagen des Schnittes vermittelt. Außerdem werd
 en die Verwendungsmöglichkeiten und der richtige Einsatz von Baumformen u
 nd Veredlungsunterlagen angesprochen.\n\nReferent: Thorsten Kruse-Neuls\n\
 nIn Kooperation mit der Bezirksstelle Uelzen der Landwirtschaftskammer Nie
 dersachsen\, dem Projekt „Öko-Modellregion Heideregion Uelzen“ und Ö
 KOregio e. V.. Eine Teilnahme kann nur nach bestätigter Anmeldung über d
 ie Website der KVHS Uelzen Lüchow-Dannenberg erfolgen.
ATTACH;FMTTYPE=image/jpeg:https://oeko-fuer-uelzen.de/wp-content/uploads/2
 021/05/schneiden.png
CATEGORIES:Öffentliche Veranstaltungen
LOCATION:Ort wird noch bekannt gegeben\, -\, -\, Deutschland
X-APPLE-STRUCTURED-LOCATION;VALUE=URI;X-ADDRESS=-\, -\, Deutschland;X-APPLE
 -RADIUS=100;X-TITLE=Ort wird noch bekannt gegeben:geo:0,0
END:VEVENT
BEGIN:VTIMEZONE
TZID:Europe/Berlin
X-LIC-LOCATION:Europe/Berlin
BEGIN:STANDARD
DTSTART:20221030T020000
TZOFFSETFROM:+0200
TZOFFSETTO:+0100
TZNAME:CET
END:STANDARD
END:VTIMEZONE
END:VCALENDAR